BEGIN:VCALENDAR
VERSION:2.0
PRODID:-//Edizioni Alegre - ECPv6.15.14//NONSGML v1.0//EN
CALSCALE:GREGORIAN
METHOD:PUBLISH
X-WR-CALNAME:Edizioni Alegre
X-ORIGINAL-URL:https://edizionialegre.it
X-WR-CALDESC:Eventi per Edizioni Alegre
REFRESH-INTERVAL;VALUE=DURATION:PT1H
X-Robots-Tag:noindex
X-PUBLISHED-TTL:PT1H
BEGIN:VTIMEZONE
TZID:Europe/Rome
BEGIN:DAYLIGHT
TZOFFSETFROM:+0100
TZOFFSETTO:+0200
TZNAME:CEST
DTSTART:20220327T010000
END:DAYLIGHT
BEGIN:STANDARD
TZOFFSETFROM:+0200
TZOFFSETTO:+0100
TZNAME:CET
DTSTART:20221030T010000
END:STANDARD
BEGIN:DAYLIGHT
TZOFFSETFROM:+0100
TZOFFSETTO:+0200
TZNAME:CEST
DTSTART:20230326T010000
END:DAYLIGHT
BEGIN:STANDARD
TZOFFSETFROM:+0200
TZOFFSETTO:+0100
TZNAME:CET
DTSTART:20231029T010000
END:STANDARD
BEGIN:DAYLIGHT
TZOFFSETFROM:+0100
TZOFFSETTO:+0200
TZNAME:CEST
DTSTART:20240331T010000
END:DAYLIGHT
BEGIN:STANDARD
TZOFFSETFROM:+0200
TZOFFSETTO:+0100
TZNAME:CET
DTSTART:20241027T010000
END:STANDARD
END:VTIMEZONE
BEGIN:VEVENT
DTSTART;TZID=Europe/Rome:20230127T210000
DTEND;TZID=Europe/Rome:20230127T230000
DTSTAMP:20260420T033722
CREATED:20230111T151541Z
LAST-MODIFIED:20230111T151541Z
UID:16903-1674853200-1674860400@edizionialegre.it
SUMMARY:Presentazione "La montagna sola" - Pisa\, 27 gennaio 2023
DESCRIPTION:Presentazione “La montagna sola” allo Spazio Antagonista Newroz di Pisa\, il 27 gennaio alle 21.00
URL:https://edizionialegre.it/appuntamento/presentazione-la-montagna-sola-pisa-27-gennaio-2023/
LOCATION:Spazio Antagonista Newroz\, Via Giuseppe Garibaldi\, 74\, Pisa\, 56124
END:VEVENT
END:VCALENDAR