BEGIN:VCALENDAR
VERSION:2.0
PRODID:-//Edizioni Alegre - ECPv6.15.14//NONSGML v1.0//EN
CALSCALE:GREGORIAN
METHOD:PUBLISH
X-ORIGINAL-URL:https://edizionialegre.it
X-WR-CALDESC:Eventi per Edizioni Alegre
REFRESH-INTERVAL;VALUE=DURATION:PT1H
X-Robots-Tag:noindex
X-PUBLISHED-TTL:PT1H
BEGIN:VTIMEZONE
TZID:Europe/Rome
BEGIN:DAYLIGHT
TZOFFSETFROM:+0100
TZOFFSETTO:+0200
TZNAME:CEST
DTSTART:20220327T010000
END:DAYLIGHT
BEGIN:STANDARD
TZOFFSETFROM:+0200
TZOFFSETTO:+0100
TZNAME:CET
DTSTART:20221030T010000
END:STANDARD
BEGIN:DAYLIGHT
TZOFFSETFROM:+0100
TZOFFSETTO:+0200
TZNAME:CEST
DTSTART:20230326T010000
END:DAYLIGHT
BEGIN:STANDARD
TZOFFSETFROM:+0200
TZOFFSETTO:+0100
TZNAME:CET
DTSTART:20231029T010000
END:STANDARD
BEGIN:DAYLIGHT
TZOFFSETFROM:+0100
TZOFFSETTO:+0200
TZNAME:CEST
DTSTART:20240331T010000
END:DAYLIGHT
BEGIN:STANDARD
TZOFFSETFROM:+0200
TZOFFSETTO:+0100
TZNAME:CET
DTSTART:20241027T010000
END:STANDARD
END:VTIMEZONE
BEGIN:VEVENT
DTSTART;TZID=Europe/Rome:20230202T203000
DTEND;TZID=Europe/Rome:20230202T223000
DTSTAMP:20260420T033910
CREATED:20230202T121200Z
LAST-MODIFIED:20230202T121200Z
UID:17016-1675369800-1675377000@edizionialegre.it
SUMMARY:Presentazione e talk su "NO SLEEP TILL SHENGAL" e "LA MONTAGNA SOLA"
DESCRIPTION:Incontro con gli autori Zerocalcare “No Sleep Till Shengal”\, Robjîn Berîtan e Chiara Cruciati “La Montagna Sola”\nPresenta: Rete Kurdistan Mantova
URL:https://edizionialegre.it/appuntamento/presentazione-e-talk-su-no-sleep-till-shengal-e-la-montagna-sola/
LOCATION:Arci Tom Mantova\, Piazza Tom Benetollo\, 2\, Mantova\, Italia
END:VEVENT
END:VCALENDAR