BEGIN:VCALENDAR
VERSION:2.0
PRODID:-//Edizioni Alegre - ECPv6.15.14//NONSGML v1.0//EN
CALSCALE:GREGORIAN
METHOD:PUBLISH
X-ORIGINAL-URL:https://edizionialegre.it
X-WR-CALDESC:Eventi per Edizioni Alegre
REFRESH-INTERVAL;VALUE=DURATION:PT1H
X-Robots-Tag:noindex
X-PUBLISHED-TTL:PT1H
BEGIN:VTIMEZONE
TZID:Europe/Rome
BEGIN:DAYLIGHT
TZOFFSETFROM:+0100
TZOFFSETTO:+0200
TZNAME:CEST
DTSTART:20220327T010000
END:DAYLIGHT
BEGIN:STANDARD
TZOFFSETFROM:+0200
TZOFFSETTO:+0100
TZNAME:CET
DTSTART:20221030T010000
END:STANDARD
BEGIN:DAYLIGHT
TZOFFSETFROM:+0100
TZOFFSETTO:+0200
TZNAME:CEST
DTSTART:20230326T010000
END:DAYLIGHT
BEGIN:STANDARD
TZOFFSETFROM:+0200
TZOFFSETTO:+0100
TZNAME:CET
DTSTART:20231029T010000
END:STANDARD
BEGIN:DAYLIGHT
TZOFFSETFROM:+0100
TZOFFSETTO:+0200
TZNAME:CEST
DTSTART:20240331T010000
END:DAYLIGHT
BEGIN:STANDARD
TZOFFSETFROM:+0200
TZOFFSETTO:+0100
TZNAME:CET
DTSTART:20241027T010000
END:STANDARD
END:VTIMEZONE
BEGIN:VEVENT
DTSTART;TZID=Europe/Rome:20230203T190000
DTEND;TZID=Europe/Rome:20230203T210000
DTSTAMP:20260420T033826
CREATED:20230131T092626Z
LAST-MODIFIED:20230131T092626Z
UID:17004-1675450800-1675458000@edizionialegre.it
SUMMARY:Presentazione di "Tuta blu" - Barletta\, 3 febbraio 2023
DESCRIPTION:Presentazione di “Tuta bliu” di Tommaso Di Ciaula con Davide Di Ciaula e Ruggero Quarto alla Libreria I Funamboli di Barletta\, il 3 febbraio alle 19\,00
URL:https://edizionialegre.it/appuntamento/presentazione-di-tuta-blu-barletta-3-febbraio-2023/
LOCATION:Libreria I Funamboli\, Via Madonna degli angeli 35\, Barletta\, BT
END:VEVENT
BEGIN:VEVENT
DTSTART;TZID=Europe/Rome:20230203T203000
DTEND;TZID=Europe/Rome:20230203T223000
DTSTAMP:20260420T033826
CREATED:20230202T121404Z
LAST-MODIFIED:20230202T121404Z
UID:17019-1675456200-1675463400@edizionialegre.it
SUMMARY:Presentazione e incontro su "NO SLEEP TILL SHENGAL" e "LA MONTAGNA SOLA"
DESCRIPTION:Incontro con Zerocalcare “No Sleep Till Shengal”\, Robjîn Berîtan e Chiara Cruciati “La Montagna Sola”
URL:https://edizionialegre.it/appuntamento/presentazione-e-incontro-su-no-sleep-till-shengal-e-la-montagna-sola/
LOCATION:Circolo Arci Post\, Str. dei Mercati\, 15/d\, Parma\, Italia
END:VEVENT
END:VCALENDAR