BEGIN:VCALENDAR
VERSION:2.0
PRODID:-//Edizioni Alegre - ECPv6.15.14//NONSGML v1.0//EN
CALSCALE:GREGORIAN
METHOD:PUBLISH
X-WR-CALNAME:Edizioni Alegre
X-ORIGINAL-URL:https://edizionialegre.it
X-WR-CALDESC:Eventi per Edizioni Alegre
REFRESH-INTERVAL;VALUE=DURATION:PT1H
X-Robots-Tag:noindex
X-PUBLISHED-TTL:PT1H
BEGIN:VTIMEZONE
TZID:Europe/Rome
BEGIN:DAYLIGHT
TZOFFSETFROM:+0100
TZOFFSETTO:+0200
TZNAME:CEST
DTSTART:20220327T010000
END:DAYLIGHT
BEGIN:STANDARD
TZOFFSETFROM:+0200
TZOFFSETTO:+0100
TZNAME:CET
DTSTART:20221030T010000
END:STANDARD
BEGIN:DAYLIGHT
TZOFFSETFROM:+0100
TZOFFSETTO:+0200
TZNAME:CEST
DTSTART:20230326T010000
END:DAYLIGHT
BEGIN:STANDARD
TZOFFSETFROM:+0200
TZOFFSETTO:+0100
TZNAME:CET
DTSTART:20231029T010000
END:STANDARD
BEGIN:DAYLIGHT
TZOFFSETFROM:+0100
TZOFFSETTO:+0200
TZNAME:CEST
DTSTART:20240331T010000
END:DAYLIGHT
BEGIN:STANDARD
TZOFFSETFROM:+0200
TZOFFSETTO:+0100
TZNAME:CET
DTSTART:20241027T010000
END:STANDARD
END:VTIMEZONE
BEGIN:VEVENT
DTSTART;TZID=Europe/Rome:20230212T190000
DTEND;TZID=Europe/Rome:20230212T210000
DTSTAMP:20260420T050517
CREATED:20230131T092216Z
LAST-MODIFIED:20230131T092216Z
UID:17002-1676228400-1676235600@edizionialegre.it
SUMMARY:Presentazione de ''La morte\, la fanciulla e l'orco rosso'' - Jesi (AN)\, 12 febbraio 2023
DESCRIPTION:Presentazione del libro // 𝗟𝗔 𝗠𝗢𝗥𝗧𝗘\, 𝗟𝗔 𝗙𝗔𝗡𝗖𝗜𝗨𝗟𝗟𝗔 𝗘 𝗟’𝗢𝗥𝗖𝗢 𝗥𝗢𝗦𝗦𝗢\, 𝗜𝗹 𝗰𝗮𝘀𝗼 𝗚𝗵𝗲𝗿𝘀𝗶: 𝗰𝗼𝗺𝗲 𝘀𝗶 𝗶𝗻𝘃𝗲𝗻𝘁𝗮 𝘂𝗻𝗮 𝗹𝗲𝗴𝗴𝗲𝗻𝗱𝗮 𝗮𝗻𝘁𝗶𝗽𝗮𝗿𝘁𝗶𝗴𝗶𝗮𝗻𝗮 // (Alegre Edizioni)\ndi e con 𝗡𝗶𝗰𝗼𝗹𝗲𝘁𝘁𝗮 𝗕𝗼𝘂𝗿𝗯𝗮𝗸𝗶
URL:https://edizionialegre.it/appuntamento/presentazione-de-la-morte-la-fanciulla-e-lorco-rosso-jesi-an-12-febbraio-2023/
LOCATION:Spazio Comune Tnt Jesi\, Via Gallodoro\, 68/ter\, Jesi\, 60035
END:VEVENT
END:VCALENDAR