BEGIN:VCALENDAR
VERSION:2.0
PRODID:-//Edizioni Alegre - ECPv6.15.14//NONSGML v1.0//EN
CALSCALE:GREGORIAN
METHOD:PUBLISH
X-WR-CALNAME:Edizioni Alegre
X-ORIGINAL-URL:https://edizionialegre.it
X-WR-CALDESC:Eventi per Edizioni Alegre
REFRESH-INTERVAL;VALUE=DURATION:PT1H
X-Robots-Tag:noindex
X-PUBLISHED-TTL:PT1H
BEGIN:VTIMEZONE
TZID:Europe/Rome
BEGIN:DAYLIGHT
TZOFFSETFROM:+0100
TZOFFSETTO:+0200
TZNAME:CEST
DTSTART:20240331T010000
END:DAYLIGHT
BEGIN:STANDARD
TZOFFSETFROM:+0200
TZOFFSETTO:+0100
TZNAME:CET
DTSTART:20241027T010000
END:STANDARD
BEGIN:DAYLIGHT
TZOFFSETFROM:+0100
TZOFFSETTO:+0200
TZNAME:CEST
DTSTART:20250330T010000
END:DAYLIGHT
BEGIN:STANDARD
TZOFFSETFROM:+0200
TZOFFSETTO:+0100
TZNAME:CET
DTSTART:20251026T010000
END:STANDARD
BEGIN:DAYLIGHT
TZOFFSETFROM:+0100
TZOFFSETTO:+0200
TZNAME:CEST
DTSTART:20260329T010000
END:DAYLIGHT
BEGIN:STANDARD
TZOFFSETFROM:+0200
TZOFFSETTO:+0100
TZNAME:CET
DTSTART:20261025T010000
END:STANDARD
END:VTIMEZONE
BEGIN:VEVENT
DTSTART;TZID=Europe/Rome:20250531T183000
DTEND;TZID=Europe/Rome:20250531T183000
DTSTAMP:20260419T190636
CREATED:20250530T093422Z
LAST-MODIFIED:20250530T093422Z
UID:20105-1748716200-1748716200@edizionialegre.it
SUMMARY:Presentazione "Il calcio del figlio"
DESCRIPTION:Sabato 31 maggio \nFIRENZE \nh. 18:30\, GSD Albereta San Salvi \nVia Villamagna\, 150
URL:https://edizionialegre.it/appuntamento/presentazione-il-calcio-del-figlio-4/
LOCATION:GSD Albereta San Salvi\, Via Villamagna\, 150\, Firenze\, Italy
END:VEVENT
END:VCALENDAR