BEGIN:VCALENDAR
VERSION:2.0
PRODID:-//Edizioni Alegre - ECPv6.15.20//NONSGML v1.0//EN
CALSCALE:GREGORIAN
METHOD:PUBLISH
X-WR-CALNAME:Edizioni Alegre
X-ORIGINAL-URL:https://edizionialegre.it
X-WR-CALDESC:Eventi per Edizioni Alegre
REFRESH-INTERVAL;VALUE=DURATION:PT1H
X-Robots-Tag:noindex
X-PUBLISHED-TTL:PT1H
BEGIN:VTIMEZONE
TZID:Europe/Rome
BEGIN:DAYLIGHT
TZOFFSETFROM:+0100
TZOFFSETTO:+0200
TZNAME:CEST
DTSTART:20180325T010000
END:DAYLIGHT
BEGIN:STANDARD
TZOFFSETFROM:+0200
TZOFFSETTO:+0100
TZNAME:CET
DTSTART:20181028T010000
END:STANDARD
BEGIN:DAYLIGHT
TZOFFSETFROM:+0100
TZOFFSETTO:+0200
TZNAME:CEST
DTSTART:20190331T010000
END:DAYLIGHT
BEGIN:STANDARD
TZOFFSETFROM:+0200
TZOFFSETTO:+0100
TZNAME:CET
DTSTART:20191027T010000
END:STANDARD
BEGIN:DAYLIGHT
TZOFFSETFROM:+0100
TZOFFSETTO:+0200
TZNAME:CEST
DTSTART:20200329T010000
END:DAYLIGHT
BEGIN:STANDARD
TZOFFSETFROM:+0200
TZOFFSETTO:+0100
TZNAME:CET
DTSTART:20201025T010000
END:STANDARD
END:VTIMEZONE
BEGIN:VEVENT
DTSTART;TZID=Europe/Rome:20191004T180000
DTEND;TZID=Europe/Rome:20191004T200000
DTSTAMP:20260421T054437
CREATED:20190919T140742Z
LAST-MODIFIED:20190919T140742Z
UID:8098-1570212000-1570219200@edizionialegre.it
SUMMARY:Andrea Olivieri presenta Una cosa oscura\, senza pregio a Pordenone
DESCRIPTION:Il 4 ottobre alle 18 Andrea Olivieri presenta Una cosa oscura\, senza pregio a Pordenone\, alla Casa del Popolo – Torre\, con Elisabetta Michielin (Pulplibri) e Gianni Cavallini (Mediterranea rescue).
URL:https://edizionialegre.it/appuntamento/andrea-olivieri-presenta-una-cosa-oscura-senza-pregio-a-pordenone/
LOCATION:pin Casa del Popolo – Torre\, via Carnaro 10\, Pordenone\, Pordenone\, 33170\, Italia
CATEGORIES:Presentazione
END:VEVENT
BEGIN:VEVENT
DTSTART;TZID=Europe/Rome:20191003T210000
DTEND;TZID=Europe/Rome:20191003T230000
DTSTAMP:20260421T054437
CREATED:20190924T133244Z
LAST-MODIFIED:20190924T133244Z
UID:10946-1570136400-1570143600@edizionialegre.it
SUMMARY:Mauro Vanetti presenta La sinistra di destra a Bergamo
DESCRIPTION:Giovedì 3 ottobre alle 21 Mauro Vanetti sarà ospite del Barrio Campagnola di Bergamo per presentare La sinistra di destra.
URL:https://edizionialegre.it/appuntamento/mauro-vanetti-presenta-la-sinistra-di-destra-a-bergamo/
LOCATION:Barrio Campagnola\, Via Ferruccio dell'Orto\, 20\, Bergamo\, Bergamo\, 24123\, Italia
CATEGORIES:Presentazione
ATTACH;FMTTYPE=image/jpeg:https://edizionialegre.it/wp-content/uploads/2019/09/70670823_2441991609402670_3478832477928161280_n.jpg
END:VEVENT
BEGIN:VEVENT
DTSTART;TZID=Europe/Rome:20190927T211500
DTEND;TZID=Europe/Rome:20190927T231500
DTSTAMP:20260421T054437
CREATED:20190919T140348Z
LAST-MODIFIED:20190919T140348Z
UID:8093-1569618900-1569626100@edizionialegre.it
SUMMARY:Wolf Bukowski presenta La buona educazione degli oppressi a Senigallia
DESCRIPTION:Venerdì 27 settembre alle 21:15 Wolf Bukowski presenta La buona educazione degli oppressi a Senigallia\, presso lo Spazio Autogestito Arvultùra.
URL:https://edizionialegre.it/appuntamento/wolf-bukowski-presenta-la-buona-educazione-degli-oppressi-a-senigallia/
LOCATION:Spazio Autogestito Arvultùra\, Via Abbagnano 4\, Senigallia\, Ancona\, 60019\, Italia
CATEGORIES:Presentazione
ATTACH;FMTTYPE=image/jpeg:https://edizionialegre.it/wp-content/uploads/2019/09/69808447_1286193731540011_4914004815022915584_n.jpg
END:VEVENT
BEGIN:VEVENT
DTSTART;TZID=Europe/Rome:20190927T210000
DTEND;TZID=Europe/Rome:20190927T230000
DTSTAMP:20260421T054437
CREATED:20190919T135932Z
LAST-MODIFIED:20190919T140449Z
UID:8088-1569618000-1569625200@edizionialegre.it
SUMMARY:Selene Pascarella presenta Pozzi alla Libreria Il Gorilla e l'Alligatore di Orte
DESCRIPTION:Venerdì 27 settembre alle 21 Selene Pascarella presenta in anteprima nazionale Pozzi. Il diavolo a Bitonto\, il suo nuovo libro per la collana #QuintoTipo\, alla libreria Il Gorilla e l’Alligatore di Orte\, nell’ambito del festival Sentieri Bui\, rassegna noir.
URL:https://edizionialegre.it/appuntamento/selene-pascarella-presenta-pozzi-alla-libreria-il-gorilla-e-lalligatore-di-orte/
LOCATION:Libreria il Gorilla e l’Alligatore\, Via dei Calafati 13/ C-22\, Orte\, Viterbo\, 01028\, Italia
CATEGORIES:Festival,Presentazione
ATTACH;FMTTYPE=image/jpeg:https://edizionialegre.it/wp-content/uploads/2019/09/70148551_2619996088043231_3671125619833307136_n.jpg
END:VEVENT
BEGIN:VEVENT
DTSTART;TZID=Europe/Rome:20190926T210000
DTEND;TZID=Europe/Rome:20190926T230000
DTSTAMP:20260421T054437
CREATED:20190921T124321Z
LAST-MODIFIED:20190925T113808Z
UID:8251-1569531600-1569538800@edizionialegre.it
SUMMARY:Wolf Bukowski presenta La buona educazione degli oppressi a Macerata
DESCRIPTION:Giovedì 26 settembre alle 21 Wolf Bukowski presenta La buona educazione degli oppressi a Macerata\, presso il Csa Sisma.
URL:https://edizionialegre.it/appuntamento/wolf-bukowski-presenta-la-buona-educazione-degli-oppressi-a-macerata/
LOCATION:Csa Sisma\, Via Alfieri\, 8\, Macerata\, Macerata\, 62100\, Italia
CATEGORIES:Presentazione
ATTACH;FMTTYPE=image/jpeg:https://edizionialegre.it/wp-content/uploads/2019/09/70631677_2212365722335381_8428887161079595008_n.jpg
END:VEVENT
BEGIN:VEVENT
DTSTART;TZID=Europe/Rome:20190925T190000
DTEND;TZID=Europe/Rome:20190925T233000
DTSTAMP:20260421T054437
CREATED:20190921T124116Z
LAST-MODIFIED:20190924T132327Z
UID:8252-1569438000-1569454200@edizionialegre.it
SUMMARY:Wolf Bukowski presenta La buona educazione degli oppressi a Porto San Giorgio
DESCRIPTION:Mercoledì 25 settembre alle 21:30 Wolf Bukowski presenta La buona educazione degli oppressi a Porto San Giorgio\, presso il Csa Officina Trenino. La presentazione sarà preceduta\, dalle 19\, da un aperitivo.
URL:https://edizionialegre.it/appuntamento/wolf-bukowski-presenta-la-buona-educazione-degli-oppressi-a-porto-san-giorgio/
LOCATION:Csa Officina Trenino\, Viale della vittoria 211\, Porto San Giorgio\, Fermo\, 63822\, Italia
CATEGORIES:Presentazione
ATTACH;FMTTYPE=image/jpeg:https://edizionialegre.it/wp-content/uploads/2019/09/70585183_2212365812335372_5957218728742486016_n.jpg
END:VEVENT
BEGIN:VEVENT
DTSTART;TZID=Europe/Rome:20190919T183000
DTEND;TZID=Europe/Rome:20190919T213000
DTSTAMP:20260421T054437
CREATED:20190919T135215Z
LAST-MODIFIED:20190919T135215Z
UID:8084-1568917800-1568928600@edizionialegre.it
SUMMARY:Wolf Bukowksi al circolo Ponte della Ghisolfa di Milano
DESCRIPTION:Giovedì 19 settembre alle 18:30 Wolf Bukowski presenta La buona educazione degli oppressi al circolo anarchico Ponte della Ghisolfa di Milano.
URL:https://edizionialegre.it/appuntamento/wolf-bukowksi-al-circolo-ponte-della-ghisolfa-di-milano/
LOCATION:Circolo anarchico Ponte della Ghisolfa\, Viale Monza 255\, Milano\, 20126\, Italia
CATEGORIES:Presentazione
END:VEVENT
END:VCALENDAR