BEGIN:VCALENDAR
VERSION:2.0
PRODID:-//Edizioni Alegre - ECPv6.15.14//NONSGML v1.0//EN
CALSCALE:GREGORIAN
METHOD:PUBLISH
X-ORIGINAL-URL:https://edizionialegre.it
X-WR-CALDESC:Eventi per Edizioni Alegre
REFRESH-INTERVAL;VALUE=DURATION:PT1H
X-Robots-Tag:noindex
X-PUBLISHED-TTL:PT1H
BEGIN:VTIMEZONE
TZID:Europe/Rome
BEGIN:DAYLIGHT
TZOFFSETFROM:+0100
TZOFFSETTO:+0200
TZNAME:CEST
DTSTART:20210328T010000
END:DAYLIGHT
BEGIN:STANDARD
TZOFFSETFROM:+0200
TZOFFSETTO:+0100
TZNAME:CET
DTSTART:20211031T010000
END:STANDARD
BEGIN:DAYLIGHT
TZOFFSETFROM:+0100
TZOFFSETTO:+0200
TZNAME:CEST
DTSTART:20220327T010000
END:DAYLIGHT
BEGIN:STANDARD
TZOFFSETFROM:+0200
TZOFFSETTO:+0100
TZNAME:CET
DTSTART:20221030T010000
END:STANDARD
BEGIN:DAYLIGHT
TZOFFSETFROM:+0100
TZOFFSETTO:+0200
TZNAME:CEST
DTSTART:20230326T010000
END:DAYLIGHT
BEGIN:STANDARD
TZOFFSETFROM:+0200
TZOFFSETTO:+0100
TZNAME:CET
DTSTART:20231029T010000
END:STANDARD
END:VTIMEZONE
BEGIN:VEVENT
DTSTART;TZID=Europe/Rome:20221201T190000
DTEND;TZID=Europe/Rome:20221201T210000
DTSTAMP:20260420T053052
CREATED:20221103T115706Z
LAST-MODIFIED:20221116T171706Z
UID:16722-1669921200-1669928400@edizionialegre.it
SUMMARY:Presentazione de "La morte\, la fanciulla e l'orco rosso" - Milano\, 1 dicembre 2022
DESCRIPTION:Presentazione de “La morte\, la fanciulla e l’orco rosso” a Piano Terra di Milano\, il 1 dicembre alle 19. \nIncontro a cura di Lapsus (Laboratorio di analisi storica del mondo contemporaneo).
URL:https://edizionialegre.it/appuntamento/presentazione-de-la-morte-la-fanciulla-e-lorco-rosso-milano-1-dicembre-2022/
LOCATION:Piano Terra Milano\, Via Federico Confalonieri\, 3\, Milano
END:VEVENT
BEGIN:VEVENT
DTSTART;TZID=Europe/Rome:20221202T180000
DTEND;TZID=Europe/Rome:20221202T200000
DTSTAMP:20260420T053052
CREATED:20221128T103425Z
LAST-MODIFIED:20221201T112245Z
UID:16817-1670004000-1670011200@edizionialegre.it
SUMMARY:Presentazione "La montagna sola" e "No sleep till Shengal” - Bologna\, 2 dicembre 2022
DESCRIPTION:Presentazione con autor* dei 2 libri “No sleep till Shengal” di Zerocalcare (Bao Publishing) e “La montagna sola” di Robjîn Berîtan e Chiara Cruciati (edizioni Alegre) \nAl TPO di Bologna il 2 dicembre alle 18
URL:https://edizionialegre.it/appuntamento/presentazione-la-montagna-sola-e-no-sleep-till-shengal-bologna-2-dicembre-2022/
LOCATION:TPO Bologna\, Via Casarini 17/5\, Bologna\, Italia
ORGANIZER;CN="TPO":MAILTO:tpo@mail.com
END:VEVENT
BEGIN:VEVENT
DTSTART;TZID=Europe/Rome:20221202T203000
DTEND;TZID=Europe/Rome:20221202T223000
DTSTAMP:20260420T053052
CREATED:20221103T120155Z
LAST-MODIFIED:20221103T120155Z
UID:16725-1670013000-1670020200@edizionialegre.it
SUMMARY:Presentazione de "La morte\, la fanciulla e l'orco rosso" - Pisogne\, 2 dicembre 2022
DESCRIPTION:Presentazione de “La morte\, la fanciulla e l’orco rosso” alla Libreria Puntoacapo di Pisogne (BS) alle 20.45. \nIntrodurrà e modererà la presentazione lo storico Federico Carlo Simonelli.
URL:https://edizionialegre.it/appuntamento/presentazione-de-la-morte-la-fanciulla-e-lorco-rosso-pisogne-2-dicembre-2022/
LOCATION:Libreria Puntoacapo\, Piazza Vescovo Corna Pellegrini\, 10\, Pisogne\, BS
END:VEVENT
BEGIN:VEVENT
DTSTART;TZID=Europe/Rome:20221206T183000
DTEND;TZID=Europe/Rome:20221206T203000
DTSTAMP:20260420T053052
CREATED:20221129T114634Z
LAST-MODIFIED:20221129T114634Z
UID:16829-1670351400-1670358600@edizionialegre.it
SUMMARY:Presentazione de "La montagna sola" - Napoli\, 6 dicembre 2022
DESCRIPTION:Presentazione de “La montagna sola” di Rojbîn Berîtan e Chiara Cruciati e aggiornamenti dal Kurdistan. \nA Largo dei Banchi Nuovi a Napoli\, il 6 dicembre alle 18:30
URL:https://edizionialegre.it/appuntamento/presentazione-de-la-montagna-sola-napoli-6-dicembre-2022/
LOCATION:Largo Banchi nuovi\, Largo Banchi nuovi\, Napoli\, NA
END:VEVENT
END:VCALENDAR