BEGIN:VCALENDAR
VERSION:2.0
PRODID:-//Edizioni Alegre - ECPv6.15.14//NONSGML v1.0//EN
CALSCALE:GREGORIAN
METHOD:PUBLISH
X-WR-CALNAME:Edizioni Alegre
X-ORIGINAL-URL:https://edizionialegre.it
X-WR-CALDESC:Eventi per Edizioni Alegre
REFRESH-INTERVAL;VALUE=DURATION:PT1H
X-Robots-Tag:noindex
X-PUBLISHED-TTL:PT1H
BEGIN:VTIMEZONE
TZID:Europe/Rome
BEGIN:DAYLIGHT
TZOFFSETFROM:+0100
TZOFFSETTO:+0200
TZNAME:CEST
DTSTART:20220327T010000
END:DAYLIGHT
BEGIN:STANDARD
TZOFFSETFROM:+0200
TZOFFSETTO:+0100
TZNAME:CET
DTSTART:20221030T010000
END:STANDARD
BEGIN:DAYLIGHT
TZOFFSETFROM:+0100
TZOFFSETTO:+0200
TZNAME:CEST
DTSTART:20230326T010000
END:DAYLIGHT
BEGIN:STANDARD
TZOFFSETFROM:+0200
TZOFFSETTO:+0100
TZNAME:CET
DTSTART:20231029T010000
END:STANDARD
BEGIN:DAYLIGHT
TZOFFSETFROM:+0100
TZOFFSETTO:+0200
TZNAME:CEST
DTSTART:20240331T010000
END:DAYLIGHT
BEGIN:STANDARD
TZOFFSETFROM:+0200
TZOFFSETTO:+0100
TZNAME:CET
DTSTART:20241027T010000
END:STANDARD
END:VTIMEZONE
BEGIN:VEVENT
DTSTART;TZID=Europe/Rome:20230319T170000
DTEND;TZID=Europe/Rome:20230319T220000
DTSTAMP:20260420T011258
CREATED:20230317T164551Z
LAST-MODIFIED:20230317T164551Z
UID:17116-1679245200-1679263200@edizionialegre.it
SUMMARY:Con Orso nel cuore e nella lotta! Proiezione del film + incontro con Zerocalcare\, Cruciati\, Beritan
DESCRIPTION:𝗖𝗢𝗡 𝗢𝗥𝗦𝗢 𝗡𝗘𝗟 𝗖𝗨𝗢𝗥𝗘 𝗘 𝗡𝗘𝗟𝗟𝗔 𝗟𝗢𝗧𝗧𝗔\n𝑆𝑒𝑟𝑎𝑡𝑎 𝑖𝑛 𝑚𝑒𝑚𝑜𝑟𝑖𝑎 𝑑𝑖 𝑂𝑟𝑠𝑜\n Domenica 19 marzo dalle 17.30\n Casa del Popolo Grassina\n\nPROGRAMMA\n𝟭𝟳.𝟯𝟬 – Proiezione del film “𝗧𝗲𝗸𝗼𝘀𝗲𝗿. 𝗜𝗹 𝗽𝗮𝗿𝘁𝗶𝗴𝗶𝗮𝗻𝗼 𝗢𝗿𝘀𝗼” (Dario Salvetti\, 2021)\n𝟭𝟴.𝟯𝟬 – Incontro con (Z)ZeroCalcare\, 𝗥𝗼𝗷𝗯𝗶̂𝗻 𝗕𝗲𝗿𝗶̂𝘁𝗮𝗻 e 𝗖𝗵𝗶𝗮𝗿𝗮 𝗖𝗿𝘂𝗰𝗶𝗮𝘁𝗶. Presentazione dei libri “No sleep till Shengal” (Bao Publishing 2022) e “La montagna sola” (Edizioni Alegre 2022)\n𝟮𝟬.𝟬𝟬 – 𝗖𝗲𝗻𝗮 𝗱𝗶 𝗿𝗮𝗰𝗰𝗼𝗹𝘁𝗮 𝗳𝗼𝗻𝗱𝗶 a sostegno delle popolazioni terremotate del sud-est della Turchia e del nord-est della Siria.
URL:https://edizionialegre.it/appuntamento/con-orso-nel-cuore-e-nella-lotta-proiezione-del-film-incontro-con-zerocalcare-cruciati-beritan/
LOCATION:Casa del Popolo Grassina\, Piazza Umberto I\, Bagno a Ripoli\, FI\, Italia
ORGANIZER;CN="Arci Firenze":MAILTO:firenze@arci.it
END:VEVENT
END:VCALENDAR