BEGIN:VCALENDAR
VERSION:2.0
PRODID:-//Edizioni Alegre - ECPv6.15.14//NONSGML v1.0//EN
CALSCALE:GREGORIAN
METHOD:PUBLISH
X-ORIGINAL-URL:https://edizionialegre.it
X-WR-CALDESC:Eventi per Edizioni Alegre
REFRESH-INTERVAL;VALUE=DURATION:PT1H
X-Robots-Tag:noindex
X-PUBLISHED-TTL:PT1H
BEGIN:VTIMEZONE
TZID:Europe/Rome
BEGIN:DAYLIGHT
TZOFFSETFROM:+0100
TZOFFSETTO:+0200
TZNAME:CEST
DTSTART:20240331T010000
END:DAYLIGHT
BEGIN:STANDARD
TZOFFSETFROM:+0200
TZOFFSETTO:+0100
TZNAME:CET
DTSTART:20241027T010000
END:STANDARD
BEGIN:DAYLIGHT
TZOFFSETFROM:+0100
TZOFFSETTO:+0200
TZNAME:CEST
DTSTART:20250330T010000
END:DAYLIGHT
BEGIN:STANDARD
TZOFFSETFROM:+0200
TZOFFSETTO:+0100
TZNAME:CET
DTSTART:20251026T010000
END:STANDARD
BEGIN:DAYLIGHT
TZOFFSETFROM:+0100
TZOFFSETTO:+0200
TZNAME:CEST
DTSTART:20260329T010000
END:DAYLIGHT
BEGIN:STANDARD
TZOFFSETFROM:+0200
TZOFFSETTO:+0100
TZNAME:CET
DTSTART:20261025T010000
END:STANDARD
END:VTIMEZONE
BEGIN:VEVENT
DTSTART;TZID=Europe/Rome:20250514T190000
DTEND;TZID=Europe/Rome:20250514T190000
DTSTAMP:20260419T161058
CREATED:20250502T174403Z
LAST-MODIFIED:20250502T174403Z
UID:20004-1747249200-1747249200@edizionialegre.it
SUMMARY:Presentazione "Risto Reich"
DESCRIPTION:Mercoledì 14 ore 19:00\nMILANO\nColibrì Caffè Letterario\nVia Laghetto 9/11\nin dialogo con Arianna Montanari
URL:https://edizionialegre.it/appuntamento/presentazione-risto-reich/
LOCATION:Colibrì Caffè Letterario\, Via Laghetto\, 9/11\, Milano\, 20122
END:VEVENT
BEGIN:VEVENT
DTSTART;TZID=Europe/Rome:20250515T203000
DTEND;TZID=Europe/Rome:20250515T203000
DTSTAMP:20260419T161058
CREATED:20250502T174828Z
LAST-MODIFIED:20250502T174828Z
UID:20008-1747341000-1747341000@edizionialegre.it
SUMMARY:Presentazione "Il calcio del figlio"
DESCRIPTION:Giovedì 15 maggio \nIMOLA (BO) \nOre 20:30\, Galleria della fondazione – Piazza Matteotti\, 1 \n[Il calcio del figlio + Transagonistica di Gabriele Galligani\, ed. Battaglia]
URL:https://edizionialegre.it/appuntamento/presentazione-il-calcio-del-figlio/
LOCATION:Galleria della fondazione\, Piazza Matteotti\, 1\, Imola
END:VEVENT
BEGIN:VEVENT
DTSTART;TZID=Europe/Rome:20250515T203000
DTEND;TZID=Europe/Rome:20250515T203000
DTSTAMP:20260419T161058
CREATED:20250505T174128Z
LAST-MODIFIED:20250505T174909Z
UID:20018-1747341000-1747341000@edizionialegre.it
SUMMARY:Presentazione "Risto Reich"
DESCRIPTION:Giovedì 15 maggio – ore 20:45\nPISOGNE (BS)\nLibreria PUNTOACAPO\nP.za Vescovo Corna Pellegrini\, 10\nin dialogo con Andrea Musati
URL:https://edizionialegre.it/appuntamento/presentazione-di-risto-reich/
LOCATION:Libreria Puntoacapo\, Piazza Vescovo Corna Pellegrini\, 10\, Pisogne\, BS
END:VEVENT
BEGIN:VEVENT
DTSTART;TZID=Europe/Rome:20250516T190000
DTEND;TZID=Europe/Rome:20250516T190000
DTSTAMP:20260419T161058
CREATED:20250505T174314Z
LAST-MODIFIED:20250505T174314Z
UID:20021-1747422000-1747422000@edizionialegre.it
SUMMARY:Presentazione "Risto Reich"
DESCRIPTION:Venerdì 16 maggio\,  ore 19:00\nTORINO\nCircolo Risorgimento APS\nVia Giovanni Poggio\, 16\nin dialogo con Francesca Coin
URL:https://edizionialegre.it/appuntamento/presentazione-risto-reich-2/
LOCATION:Circolo Risorgimento APS\, Via Giovanni Poggio\, 16\, Torino
END:VEVENT
BEGIN:VEVENT
DTSTART;TZID=Europe/Rome:20250516T203000
DTEND;TZID=Europe/Rome:20250516T203000
DTSTAMP:20260419T161058
CREATED:20250505T174540Z
LAST-MODIFIED:20250505T174540Z
UID:20024-1747427400-1747427400@edizionialegre.it
SUMMARY:Presentazione "Il calcio del figlio"
DESCRIPTION:Venerdì 16 maggio\, ore 20:30\nOZZANO DELL’EMILIA (BO)\nBiblioteca comunale\nvia Aldo Moro\, 2
URL:https://edizionialegre.it/appuntamento/presentazione-il-calcio-del-figlio-2/
LOCATION:Biblioteca comunale Ozzano dell’Emilia\, via Aldo Moro\, 2\, OZZANO DELL’EMILIA (BO)
END:VEVENT
BEGIN:VEVENT
DTSTART;TZID=Europe/Rome:20250517T180000
DTEND;TZID=Europe/Rome:20250517T180000
DTSTAMP:20260419T161058
CREATED:20250505T174819Z
LAST-MODIFIED:20250505T174819Z
UID:20027-1747504800-1747504800@edizionialegre.it
SUMMARY:Presentazione "Il calcio del figlio"
DESCRIPTION:Sabato 17 maggio\, ore 18.00\nPALERMO\nBooq\, bibliofficina di quartiere \nvia Santa Teresa / Piazza Kalsa
URL:https://edizionialegre.it/appuntamento/presentazione-il-calcio-del-figlio-3/
LOCATION:Booq\, bibliofficina di quartiere\, via Santa Teresa\, Palermo\, 90133
END:VEVENT
BEGIN:VEVENT
DTSTART;TZID=Europe/Rome:20250531T183000
DTEND;TZID=Europe/Rome:20250531T183000
DTSTAMP:20260419T161058
CREATED:20250530T093422Z
LAST-MODIFIED:20250530T093422Z
UID:20105-1748716200-1748716200@edizionialegre.it
SUMMARY:Presentazione "Il calcio del figlio"
DESCRIPTION:Sabato 31 maggio \nFIRENZE \nh. 18:30\, GSD Albereta San Salvi \nVia Villamagna\, 150
URL:https://edizionialegre.it/appuntamento/presentazione-il-calcio-del-figlio-4/
LOCATION:GSD Albereta San Salvi\, Via Villamagna\, 150\, Firenze\, Italy
END:VEVENT
END:VCALENDAR